BEGIN:VCALENDAR
VERSION:2.0
PRODID:-//Upper Room Bible Church - ECPv6.15.16.1//NONSGML v1.0//EN
CALSCALE:GREGORIAN
METHOD:PUBLISH
X-ORIGINAL-URL:https://www.upperroombible.org
X-WR-CALDESC:Events for Upper Room Bible Church
REFRESH-INTERVAL;VALUE=DURATION:PT1H
X-Robots-Tag:noindex
X-PUBLISHED-TTL:PT1H
BEGIN:VTIMEZONE
TZID:America/Chicago
BEGIN:DAYLIGHT
TZOFFSETFROM:-0600
TZOFFSETTO:-0500
TZNAME:CDT
DTSTART:20250309T080000
END:DAYLIGHT
BEGIN:STANDARD
TZOFFSETFROM:-0500
TZOFFSETTO:-0600
TZNAME:CST
DTSTART:20251102T070000
END:STANDARD
BEGIN:DAYLIGHT
TZOFFSETFROM:-0600
TZOFFSETTO:-0500
TZNAME:CDT
DTSTART:20260308T080000
END:DAYLIGHT
BEGIN:STANDARD
TZOFFSETFROM:-0500
TZOFFSETTO:-0600
TZNAME:CST
DTSTART:20261101T070000
END:STANDARD
BEGIN:DAYLIGHT
TZOFFSETFROM:-0600
TZOFFSETTO:-0500
TZNAME:CDT
DTSTART:20270314T080000
END:DAYLIGHT
BEGIN:STANDARD
TZOFFSETFROM:-0500
TZOFFSETTO:-0600
TZNAME:CST
DTSTART:20271107T070000
END:STANDARD
END:VTIMEZONE
BEGIN:VEVENT
DTSTART;TZID=America/Chicago:20260310T183000
DTEND;TZID=America/Chicago:20260310T200000
DTSTAMP:20260420T073937
CREATED:20260309T015954Z
LAST-MODIFIED:20260309T015954Z
UID:1038-1773167400-1773172800@www.upperroombible.org
SUMMARY:The Gathering
DESCRIPTION:
URL:https://www.upperroombible.org/event/the-gathering/
END:VEVENT
BEGIN:VEVENT
DTSTART;TZID=America/Chicago:20260311T181500
DTEND;TZID=America/Chicago:20260311T194500
DTSTAMP:20260420T073937
CREATED:20260225T025313Z
LAST-MODIFIED:20260309T015954Z
UID:869-1773252900-1773258300@www.upperroombible.org
SUMMARY:AWANA
DESCRIPTION:
URL:https://www.upperroombible.org/event/awana-4/
END:VEVENT
BEGIN:VEVENT
DTSTART;TZID=America/Chicago:20260312T100000
DTEND;TZID=America/Chicago:20260312T113000
DTSTAMP:20260420T073937
CREATED:20260309T015937Z
LAST-MODIFIED:20260309T015937Z
UID:1035-1773309600-1773315000@www.upperroombible.org
SUMMARY:Little Candles Mommy and Me
DESCRIPTION:
URL:https://www.upperroombible.org/event/little-candles-mommy-and-me/
END:VEVENT
BEGIN:VEVENT
DTSTART;TZID=America/Chicago:20260312T180000
DTEND;TZID=America/Chicago:20260312T200000
DTSTAMP:20260420T073937
CREATED:20260309T015954Z
LAST-MODIFIED:20260309T015954Z
UID:1039-1773338400-1773345600@www.upperroombible.org
SUMMARY:Elder Board
DESCRIPTION:
URL:https://www.upperroombible.org/event/elder-board/
END:VEVENT
BEGIN:VEVENT
DTSTART;TZID=America/Chicago:20260315T090000
DTEND;TZID=America/Chicago:20260315T100000
DTSTAMP:20260420T073937
CREATED:20260228T152900Z
LAST-MODIFIED:20260309T015937Z
UID:973-1773565200-1773568800@www.upperroombible.org
SUMMARY:Sunday School
DESCRIPTION:
URL:https://www.upperroombible.org/event/sunday-school-5/
END:VEVENT
BEGIN:VEVENT
DTSTART;TZID=America/Chicago:20260315T100000
DTEND;TZID=America/Chicago:20260315T103000
DTSTAMP:20260420T073937
CREATED:20260228T153559Z
LAST-MODIFIED:20260309T015938Z
UID:984-1773568800-1773570600@www.upperroombible.org
SUMMARY:Fellowship
DESCRIPTION:
URL:https://www.upperroombible.org/event/fellowship-3/
END:VEVENT
BEGIN:VEVENT
DTSTART;TZID=America/Chicago:20260315T103000
DTEND;TZID=America/Chicago:20260315T113000
DTSTAMP:20260420T073937
CREATED:20260228T154346Z
LAST-MODIFIED:20260309T015938Z
UID:993-1773570600-1773574200@www.upperroombible.org
SUMMARY:Worship Service
DESCRIPTION:
URL:https://www.upperroombible.org/event/worship-service-4/
END:VEVENT
BEGIN:VEVENT
DTSTART;TZID=America/Chicago:20260315T173000
DTEND;TZID=America/Chicago:20260315T193000
DTSTAMP:20260420T073937
CREATED:20260225T025345Z
LAST-MODIFIED:20260309T015939Z
UID:879-1773595800-1773603000@www.upperroombible.org
SUMMARY:Cornerstone Youth Group
DESCRIPTION:
URL:https://www.upperroombible.org/event/cornerstone-youth-group-5/
END:VEVENT
BEGIN:VEVENT
DTSTART;TZID=America/Chicago:20260318T181500
DTEND;TZID=America/Chicago:20260318T194500
DTSTAMP:20260420T073937
CREATED:20260225T025313Z
LAST-MODIFIED:20260309T015954Z
UID:870-1773857700-1773863100@www.upperroombible.org
SUMMARY:AWANA
DESCRIPTION:
URL:https://www.upperroombible.org/event/awana-5/
END:VEVENT
BEGIN:VEVENT
DTSTART;TZID=America/Chicago:20260319T100000
DTEND;TZID=America/Chicago:20260319T113000
DTSTAMP:20260420T073937
CREATED:20260309T015937Z
LAST-MODIFIED:20260309T015937Z
UID:1036-1773914400-1773919800@www.upperroombible.org
SUMMARY:Little Candles Mommy and Me
DESCRIPTION:
URL:https://www.upperroombible.org/event/little-candles-mommy-and-me-6/
END:VEVENT
BEGIN:VEVENT
DTSTART;TZID=America/Chicago:20260322T090000
DTEND;TZID=America/Chicago:20260322T100000
DTSTAMP:20260420T073937
CREATED:20260228T152901Z
LAST-MODIFIED:20260309T015937Z
UID:974-1774170000-1774173600@www.upperroombible.org
SUMMARY:Sunday School
DESCRIPTION:
URL:https://www.upperroombible.org/event/sunday-school-6/
END:VEVENT
BEGIN:VEVENT
DTSTART;TZID=America/Chicago:20260322T100000
DTEND;TZID=America/Chicago:20260322T103000
DTSTAMP:20260420T073937
CREATED:20260228T153559Z
LAST-MODIFIED:20260309T015938Z
UID:985-1774173600-1774175400@www.upperroombible.org
SUMMARY:Fellowship
DESCRIPTION:
URL:https://www.upperroombible.org/event/fellowship-4/
END:VEVENT
BEGIN:VEVENT
DTSTART;TZID=America/Chicago:20260322T103000
DTEND;TZID=America/Chicago:20260322T113000
DTSTAMP:20260420T073937
CREATED:20260228T154346Z
LAST-MODIFIED:20260309T015939Z
UID:994-1774175400-1774179000@www.upperroombible.org
SUMMARY:Worship Service
DESCRIPTION:
URL:https://www.upperroombible.org/event/worship-service-5/
END:VEVENT
BEGIN:VEVENT
DTSTART;TZID=America/Chicago:20260322T173000
DTEND;TZID=America/Chicago:20260322T193000
DTSTAMP:20260420T073937
CREATED:20260225T025400Z
LAST-MODIFIED:20260309T015939Z
UID:881-1774200600-1774207800@www.upperroombible.org
SUMMARY:Cornerstone Youth Group
DESCRIPTION:
URL:https://www.upperroombible.org/event/cornerstone-youth-group-6/
END:VEVENT
BEGIN:VEVENT
DTSTART;TZID=America/Chicago:20260325T181500
DTEND;TZID=America/Chicago:20260325T194500
DTSTAMP:20260420T073937
CREATED:20260225T025313Z
LAST-MODIFIED:20260309T015954Z
UID:871-1774462500-1774467900@www.upperroombible.org
SUMMARY:AWANA
DESCRIPTION:
URL:https://www.upperroombible.org/event/awana-6/
END:VEVENT
BEGIN:VEVENT
DTSTART;TZID=America/Chicago:20260326T100000
DTEND;TZID=America/Chicago:20260326T113000
DTSTAMP:20260420T073937
CREATED:20260309T015937Z
LAST-MODIFIED:20260309T015937Z
UID:1037-1774519200-1774524600@www.upperroombible.org
SUMMARY:Little Candles Mommy and Me
DESCRIPTION:
URL:https://www.upperroombible.org/event/little-candles-mommy-and-me-7/
END:VEVENT
BEGIN:VEVENT
DTSTART;TZID=America/Chicago:20260329T090000
DTEND;TZID=America/Chicago:20260329T100000
DTSTAMP:20260420T073937
CREATED:20260228T152901Z
LAST-MODIFIED:20260309T015938Z
UID:975-1774774800-1774778400@www.upperroombible.org
SUMMARY:Sunday School
DESCRIPTION:
URL:https://www.upperroombible.org/event/sunday-school-7/
END:VEVENT
BEGIN:VEVENT
DTSTART;TZID=America/Chicago:20260329T100000
DTEND;TZID=America/Chicago:20260329T103000
DTSTAMP:20260420T073937
CREATED:20260228T153559Z
LAST-MODIFIED:20260309T015938Z
UID:986-1774778400-1774780200@www.upperroombible.org
SUMMARY:Fellowship
DESCRIPTION:
URL:https://www.upperroombible.org/event/fellowship-5/
END:VEVENT
BEGIN:VEVENT
DTSTART;TZID=America/Chicago:20260329T103000
DTEND;TZID=America/Chicago:20260329T113000
DTSTAMP:20260420T073937
CREATED:20260228T154346Z
LAST-MODIFIED:20260309T015939Z
UID:995-1774780200-1774783800@www.upperroombible.org
SUMMARY:Worship Service
DESCRIPTION:
URL:https://www.upperroombible.org/event/worship-service-6/
END:VEVENT
BEGIN:VEVENT
DTSTART;TZID=America/Chicago:20260329T173000
DTEND;TZID=America/Chicago:20260329T193000
DTSTAMP:20260420T073937
CREATED:20260225T025601Z
LAST-MODIFIED:20260309T015939Z
UID:883-1774805400-1774812600@www.upperroombible.org
SUMMARY:Cornerstone Youth Group
DESCRIPTION:
URL:https://www.upperroombible.org/event/cornerstone-youth-group-7/
END:VEVENT
END:VCALENDAR