BEGIN:VCALENDAR
VERSION:2.0
PRODID:-//Upper Room Bible Church - ECPv6.15.16.1//NONSGML v1.0//EN
CALSCALE:GREGORIAN
METHOD:PUBLISH
X-WR-CALNAME:Upper Room Bible Church
X-ORIGINAL-URL:https://www.upperroombible.org
X-WR-CALDESC:Events for Upper Room Bible Church
REFRESH-INTERVAL;VALUE=DURATION:PT1H
X-Robots-Tag:noindex
X-PUBLISHED-TTL:PT1H
BEGIN:VTIMEZONE
TZID:America/Chicago
BEGIN:DAYLIGHT
TZOFFSETFROM:-0600
TZOFFSETTO:-0500
TZNAME:CDT
DTSTART:20250309T080000
END:DAYLIGHT
BEGIN:STANDARD
TZOFFSETFROM:-0500
TZOFFSETTO:-0600
TZNAME:CST
DTSTART:20251102T070000
END:STANDARD
BEGIN:DAYLIGHT
TZOFFSETFROM:-0600
TZOFFSETTO:-0500
TZNAME:CDT
DTSTART:20260308T080000
END:DAYLIGHT
BEGIN:STANDARD
TZOFFSETFROM:-0500
TZOFFSETTO:-0600
TZNAME:CST
DTSTART:20261101T070000
END:STANDARD
BEGIN:DAYLIGHT
TZOFFSETFROM:-0600
TZOFFSETTO:-0500
TZNAME:CDT
DTSTART:20270314T080000
END:DAYLIGHT
BEGIN:STANDARD
TZOFFSETFROM:-0500
TZOFFSETTO:-0600
TZNAME:CST
DTSTART:20271107T070000
END:STANDARD
END:VTIMEZONE
BEGIN:VEVENT
DTSTART;TZID=America/Chicago:20260510T090000
DTEND;TZID=America/Chicago:20260510T100000
DTSTAMP:20260422T214524
CREATED:20260420T174321Z
LAST-MODIFIED:20260420T174321Z
UID:1182-1778403600-1778407200@www.upperroombible.org
SUMMARY:Sunday School
DESCRIPTION:
URL:https://www.upperroombible.org/event/sunday-school-15/
END:VEVENT
BEGIN:VEVENT
DTSTART;TZID=America/Chicago:20260510T100000
DTEND;TZID=America/Chicago:20260510T103000
DTSTAMP:20260422T214524
CREATED:20260420T174321Z
LAST-MODIFIED:20260420T174321Z
UID:1187-1778407200-1778409000@www.upperroombible.org
SUMMARY:Fellowship
DESCRIPTION:
URL:https://www.upperroombible.org/event/fellowship-11/
END:VEVENT
BEGIN:VEVENT
DTSTART;TZID=America/Chicago:20260510T103000
DTEND;TZID=America/Chicago:20260510T113000
DTSTAMP:20260422T214524
CREATED:20260421T020838Z
LAST-MODIFIED:20260421T020838Z
UID:1196-1778409000-1778412600@www.upperroombible.org
SUMMARY:Worship Service
DESCRIPTION:
URL:https://www.upperroombible.org/event/worship-service-15/
END:VEVENT
BEGIN:VEVENT
DTSTART;TZID=America/Chicago:20260510T173000
DTEND;TZID=America/Chicago:20260510T193000
DTSTAMP:20260422T214524
CREATED:20260225T025816Z
LAST-MODIFIED:20260421T020839Z
UID:895-1778434200-1778441400@www.upperroombible.org
SUMMARY:Cornerstone Youth Group
DESCRIPTION:
URL:https://www.upperroombible.org/event/cornerstone-youth-group-13/
END:VEVENT
BEGIN:VEVENT
DTSTART;TZID=America/Chicago:20260513T181500
DTEND;TZID=America/Chicago:20260513T194500
DTSTAMP:20260422T214524
CREATED:20260421T020838Z
LAST-MODIFIED:20260421T020838Z
UID:1194-1778696100-1778701500@www.upperroombible.org
SUMMARY:Awana Awards Night
DESCRIPTION:
URL:https://www.upperroombible.org/event/awana-awards-night/
END:VEVENT
BEGIN:VEVENT
DTSTART;TZID=America/Chicago:20260514T180000
DTEND;TZID=America/Chicago:20260514T200000
DTSTAMP:20260422T214524
CREATED:20260420T174320Z
LAST-MODIFIED:20260420T174320Z
UID:1180-1778781600-1778788800@www.upperroombible.org
SUMMARY:Elder's Meeting
DESCRIPTION:
URL:https://www.upperroombible.org/event/elders-meeting-8/
END:VEVENT
BEGIN:VEVENT
DTSTART;TZID=America/Chicago:20260517T090000
DTEND;TZID=America/Chicago:20260517T100000
DTSTAMP:20260422T214524
CREATED:20260420T174321Z
LAST-MODIFIED:20260420T174321Z
UID:1183-1779008400-1779012000@www.upperroombible.org
SUMMARY:Sunday School
DESCRIPTION:
URL:https://www.upperroombible.org/event/sunday-school-16/
END:VEVENT
BEGIN:VEVENT
DTSTART;TZID=America/Chicago:20260517T100000
DTEND;TZID=America/Chicago:20260517T103000
DTSTAMP:20260422T214524
CREATED:20260420T174321Z
LAST-MODIFIED:20260420T174321Z
UID:1188-1779012000-1779013800@www.upperroombible.org
SUMMARY:Fellowship
DESCRIPTION:
URL:https://www.upperroombible.org/event/fellowship-12/
END:VEVENT
BEGIN:VEVENT
DTSTART;TZID=America/Chicago:20260517T103000
DTEND;TZID=America/Chicago:20260517T113000
DTSTAMP:20260422T214524
CREATED:20260421T020838Z
LAST-MODIFIED:20260421T020838Z
UID:1197-1779013800-1779017400@www.upperroombible.org
SUMMARY:Worship Service
DESCRIPTION:
URL:https://www.upperroombible.org/event/worship-service-16/
END:VEVENT
BEGIN:VEVENT
DTSTART;TZID=America/Chicago:20260517T173000
DTEND;TZID=America/Chicago:20260517T193000
DTSTAMP:20260422T214524
CREATED:20260225T025816Z
LAST-MODIFIED:20260421T020839Z
UID:897-1779039000-1779046200@www.upperroombible.org
SUMMARY:Cornerstone Youth Group
DESCRIPTION:
URL:https://www.upperroombible.org/event/cornerstone-youth-group-14/
END:VEVENT
BEGIN:VEVENT
DTSTART;TZID=America/Chicago:20260524T090000
DTEND;TZID=America/Chicago:20260524T100000
DTSTAMP:20260422T214524
CREATED:20260420T174321Z
LAST-MODIFIED:20260420T174321Z
UID:1184-1779613200-1779616800@www.upperroombible.org
SUMMARY:Sunday School
DESCRIPTION:
URL:https://www.upperroombible.org/event/sunday-school-17/
END:VEVENT
BEGIN:VEVENT
DTSTART;TZID=America/Chicago:20260524T100000
DTEND;TZID=America/Chicago:20260524T103000
DTSTAMP:20260422T214524
CREATED:20260420T174322Z
LAST-MODIFIED:20260420T174322Z
UID:1189-1779616800-1779618600@www.upperroombible.org
SUMMARY:Fellowship
DESCRIPTION:
URL:https://www.upperroombible.org/event/fellowship-13/
END:VEVENT
BEGIN:VEVENT
DTSTART;TZID=America/Chicago:20260524T103000
DTEND;TZID=America/Chicago:20260524T113000
DTSTAMP:20260422T214524
CREATED:20260421T020839Z
LAST-MODIFIED:20260421T020839Z
UID:1198-1779618600-1779622200@www.upperroombible.org
SUMMARY:Worship Service
DESCRIPTION:
URL:https://www.upperroombible.org/event/worship-service-17/
END:VEVENT
BEGIN:VEVENT
DTSTART;TZID=America/Chicago:20260531T090000
DTEND;TZID=America/Chicago:20260531T100000
DTSTAMP:20260422T214524
CREATED:20260420T174321Z
LAST-MODIFIED:20260420T174321Z
UID:1185-1780218000-1780221600@www.upperroombible.org
SUMMARY:Sunday School
DESCRIPTION:
URL:https://www.upperroombible.org/event/sunday-school-18/
END:VEVENT
BEGIN:VEVENT
DTSTART;TZID=America/Chicago:20260531T100000
DTEND;TZID=America/Chicago:20260531T103000
DTSTAMP:20260422T214524
CREATED:20260420T174322Z
LAST-MODIFIED:20260420T174322Z
UID:1190-1780221600-1780223400@www.upperroombible.org
SUMMARY:Fellowship
DESCRIPTION:
URL:https://www.upperroombible.org/event/fellowship-14/
END:VEVENT
BEGIN:VEVENT
DTSTART;TZID=America/Chicago:20260531T103000
DTEND;TZID=America/Chicago:20260531T113000
DTSTAMP:20260422T214524
CREATED:20260421T020839Z
LAST-MODIFIED:20260421T020839Z
UID:1199-1780223400-1780227000@www.upperroombible.org
SUMMARY:Worship Service
DESCRIPTION:
URL:https://www.upperroombible.org/event/worship-service-18/
END:VEVENT
END:VCALENDAR