BEGIN:VCALENDAR
VERSION:2.0
PRODID:-//Upper Room Bible Church - ECPv6.15.16.1//NONSGML v1.0//EN
CALSCALE:GREGORIAN
METHOD:PUBLISH
X-WR-CALNAME:Upper Room Bible Church
X-ORIGINAL-URL:https://www.upperroombible.org
X-WR-CALDESC:Events for Upper Room Bible Church
REFRESH-INTERVAL;VALUE=DURATION:PT1H
X-Robots-Tag:noindex
X-PUBLISHED-TTL:PT1H
BEGIN:VTIMEZONE
TZID:America/Chicago
BEGIN:DAYLIGHT
TZOFFSETFROM:-0600
TZOFFSETTO:-0500
TZNAME:CDT
DTSTART:20250309T080000
END:DAYLIGHT
BEGIN:STANDARD
TZOFFSETFROM:-0500
TZOFFSETTO:-0600
TZNAME:CST
DTSTART:20251102T070000
END:STANDARD
BEGIN:DAYLIGHT
TZOFFSETFROM:-0600
TZOFFSETTO:-0500
TZNAME:CDT
DTSTART:20260308T080000
END:DAYLIGHT
BEGIN:STANDARD
TZOFFSETFROM:-0500
TZOFFSETTO:-0600
TZNAME:CST
DTSTART:20261101T070000
END:STANDARD
BEGIN:DAYLIGHT
TZOFFSETFROM:-0600
TZOFFSETTO:-0500
TZNAME:CDT
DTSTART:20270314T080000
END:DAYLIGHT
BEGIN:STANDARD
TZOFFSETFROM:-0500
TZOFFSETTO:-0600
TZNAME:CST
DTSTART:20271107T070000
END:STANDARD
END:VTIMEZONE
BEGIN:VEVENT
DTSTART;TZID=America/Chicago:20260414T183000
DTEND;TZID=America/Chicago:20260414T200000
DTSTAMP:20260420T075725
CREATED:20260309T164222Z
LAST-MODIFIED:20260309T164222Z
UID:1152-1776191400-1776196800@www.upperroombible.org
SUMMARY:The Gathering
DESCRIPTION:
URL:https://www.upperroombible.org/event/the-gathering-5/
END:VEVENT
BEGIN:VEVENT
DTSTART;TZID=America/Chicago:20260415T181500
DTEND;TZID=America/Chicago:20260415T194500
DTSTAMP:20260420T075725
CREATED:20260309T164252Z
LAST-MODIFIED:20260309T164252Z
UID:1161-1776276900-1776282300@www.upperroombible.org
SUMMARY:AWANA
DESCRIPTION:
URL:https://www.upperroombible.org/event/awana-12/
END:VEVENT
BEGIN:VEVENT
DTSTART;TZID=America/Chicago:20260416T100000
DTEND;TZID=America/Chicago:20260416T113000
DTSTAMP:20260420T075725
CREATED:20260309T164237Z
LAST-MODIFIED:20260309T164237Z
UID:1155-1776333600-1776339000@www.upperroombible.org
SUMMARY:Little Candles Mommy and Me
DESCRIPTION:
URL:https://www.upperroombible.org/event/little-candles-mommy-and-me-15/
END:VEVENT
BEGIN:VEVENT
DTSTART;TZID=America/Chicago:20260419T090000
DTEND;TZID=America/Chicago:20260419T100000
DTSTAMP:20260420T075725
CREATED:20260309T164205Z
LAST-MODIFIED:20260309T164205Z
UID:1137-1776589200-1776592800@www.upperroombible.org
SUMMARY:Sunday School
DESCRIPTION:
URL:https://www.upperroombible.org/event/sunday-school-12/
END:VEVENT
BEGIN:VEVENT
DTSTART;TZID=America/Chicago:20260419T100000
DTEND;TZID=America/Chicago:20260419T103000
DTSTAMP:20260420T075725
CREATED:20260309T164206Z
LAST-MODIFIED:20260309T164206Z
UID:1141-1776592800-1776594600@www.upperroombible.org
SUMMARY:Fellowship Hour
DESCRIPTION:
URL:https://www.upperroombible.org/event/fellowship-hour-7/
END:VEVENT
BEGIN:VEVENT
DTSTART;TZID=America/Chicago:20260419T103000
DTEND;TZID=America/Chicago:20260419T113000
DTSTAMP:20260420T075725
CREATED:20260309T164206Z
LAST-MODIFIED:20260309T164206Z
UID:1145-1776594600-1776598200@www.upperroombible.org
SUMMARY:Worship Service
DESCRIPTION:
URL:https://www.upperroombible.org/event/worship-service-12/
END:VEVENT
BEGIN:VEVENT
DTSTART;TZID=America/Chicago:20260419T133000
DTEND;TZID=America/Chicago:20260419T143000
DTSTAMP:20260420T075725
CREATED:20260309T164306Z
LAST-MODIFIED:20260309T164306Z
UID:1164-1776605400-1776609000@www.upperroombible.org
SUMMARY:Nursing Home Service
DESCRIPTION:
URL:https://www.upperroombible.org/event/nursing-home-service-3/
END:VEVENT
BEGIN:VEVENT
DTSTART;TZID=America/Chicago:20260419T173000
DTEND;TZID=America/Chicago:20260419T193000
DTSTAMP:20260420T075725
CREATED:20260309T164221Z
LAST-MODIFIED:20260309T164221Z
UID:1149-1776619800-1776627000@www.upperroombible.org
SUMMARY:Corner Stone Youth Group
DESCRIPTION:
URL:https://www.upperroombible.org/event/corner-stone-youth-group-7/
END:VEVENT
BEGIN:VEVENT
DTSTART;TZID=America/Chicago:20260422T181500
DTEND;TZID=America/Chicago:20260422T194500
DTSTAMP:20260420T075725
CREATED:20260309T164252Z
LAST-MODIFIED:20260309T164252Z
UID:1162-1776881700-1776887100@www.upperroombible.org
SUMMARY:AWANA
DESCRIPTION:
URL:https://www.upperroombible.org/event/awana-13/
END:VEVENT
BEGIN:VEVENT
DTSTART;TZID=America/Chicago:20260423T100000
DTEND;TZID=America/Chicago:20260423T113000
DTSTAMP:20260420T075725
CREATED:20260309T164237Z
LAST-MODIFIED:20260309T164237Z
UID:1156-1776938400-1776943800@www.upperroombible.org
SUMMARY:Little Candles Mommy and Me
DESCRIPTION:
URL:https://www.upperroombible.org/event/little-candles-mommy-and-me-16/
END:VEVENT
BEGIN:VEVENT
DTSTART;TZID=America/Chicago:20260426T090000
DTEND;TZID=America/Chicago:20260426T100000
DTSTAMP:20260420T075725
CREATED:20260309T164205Z
LAST-MODIFIED:20260309T164205Z
UID:1138-1777194000-1777197600@www.upperroombible.org
SUMMARY:Sunday School
DESCRIPTION:
URL:https://www.upperroombible.org/event/sunday-school-13/
END:VEVENT
BEGIN:VEVENT
DTSTART;TZID=America/Chicago:20260426T100000
DTEND;TZID=America/Chicago:20260426T103000
DTSTAMP:20260420T075725
CREATED:20260309T164206Z
LAST-MODIFIED:20260309T164206Z
UID:1142-1777197600-1777199400@www.upperroombible.org
SUMMARY:Fellowship Hour
DESCRIPTION:
URL:https://www.upperroombible.org/event/fellowship-hour-8/
END:VEVENT
BEGIN:VEVENT
DTSTART;TZID=America/Chicago:20260426T103000
DTEND;TZID=America/Chicago:20260426T113000
DTSTAMP:20260420T075725
CREATED:20260309T164206Z
LAST-MODIFIED:20260309T164206Z
UID:1146-1777199400-1777203000@www.upperroombible.org
SUMMARY:Worship Service
DESCRIPTION:
URL:https://www.upperroombible.org/event/worship-service-13/
END:VEVENT
BEGIN:VEVENT
DTSTART;TZID=America/Chicago:20260426T173000
DTEND;TZID=America/Chicago:20260426T193000
DTSTAMP:20260420T075725
CREATED:20260309T164222Z
LAST-MODIFIED:20260309T164222Z
UID:1150-1777224600-1777231800@www.upperroombible.org
SUMMARY:Corner Stone Youth Group
DESCRIPTION:
URL:https://www.upperroombible.org/event/corner-stone-youth-group-8/
END:VEVENT
BEGIN:VEVENT
DTSTART;TZID=America/Chicago:20260429T181500
DTEND;TZID=America/Chicago:20260429T194500
DTSTAMP:20260420T075725
CREATED:20260309T164252Z
LAST-MODIFIED:20260309T164252Z
UID:1163-1777486500-1777491900@www.upperroombible.org
SUMMARY:AWANA
DESCRIPTION:
URL:https://www.upperroombible.org/event/awana-14/
END:VEVENT
BEGIN:VEVENT
DTSTART;TZID=America/Chicago:20260430T100000
DTEND;TZID=America/Chicago:20260430T113000
DTSTAMP:20260420T075725
CREATED:20260309T164237Z
LAST-MODIFIED:20260309T164237Z
UID:1157-1777543200-1777548600@www.upperroombible.org
SUMMARY:Little Candles Mommy and Me
DESCRIPTION:
URL:https://www.upperroombible.org/event/little-candles-mommy-and-me-17/
END:VEVENT
END:VCALENDAR