BEGIN:VCALENDAR
VERSION:2.0
PRODID:-//Upper Room Bible Church - ECPv6.15.16.1//NONSGML v1.0//EN
CALSCALE:GREGORIAN
METHOD:PUBLISH
X-WR-CALNAME:Upper Room Bible Church
X-ORIGINAL-URL:https://www.upperroombible.org
X-WR-CALDESC:Events for Upper Room Bible Church
REFRESH-INTERVAL;VALUE=DURATION:PT1H
X-Robots-Tag:noindex
X-PUBLISHED-TTL:PT1H
BEGIN:VTIMEZONE
TZID:America/Chicago
BEGIN:DAYLIGHT
TZOFFSETFROM:-0600
TZOFFSETTO:-0500
TZNAME:CDT
DTSTART:20250309T080000
END:DAYLIGHT
BEGIN:STANDARD
TZOFFSETFROM:-0500
TZOFFSETTO:-0600
TZNAME:CST
DTSTART:20251102T070000
END:STANDARD
BEGIN:DAYLIGHT
TZOFFSETFROM:-0600
TZOFFSETTO:-0500
TZNAME:CDT
DTSTART:20260308T080000
END:DAYLIGHT
BEGIN:STANDARD
TZOFFSETFROM:-0500
TZOFFSETTO:-0600
TZNAME:CST
DTSTART:20261101T070000
END:STANDARD
BEGIN:DAYLIGHT
TZOFFSETFROM:-0600
TZOFFSETTO:-0500
TZNAME:CDT
DTSTART:20270314T080000
END:DAYLIGHT
BEGIN:STANDARD
TZOFFSETFROM:-0500
TZOFFSETTO:-0600
TZNAME:CST
DTSTART:20271107T070000
END:STANDARD
END:VTIMEZONE
BEGIN:VTIMEZONE
TZID:UTC
BEGIN:STANDARD
TZOFFSETFROM:+0000
TZOFFSETTO:+0000
TZNAME:UTC
DTSTART:20250101T000000
END:STANDARD
END:VTIMEZONE
BEGIN:VEVENT
DTSTART;TZID=America/Chicago:20260419T173000
DTEND;TZID=America/Chicago:20260419T193000
DTSTAMP:20260420T073658
CREATED:20260309T164221Z
LAST-MODIFIED:20260309T164221Z
UID:1149-1776619800-1776627000@www.upperroombible.org
SUMMARY:Corner Stone Youth Group
DESCRIPTION:
URL:https://www.upperroombible.org/event/corner-stone-youth-group-7/
END:VEVENT
BEGIN:VEVENT
DTSTART;TZID=America/Chicago:20260419T133000
DTEND;TZID=America/Chicago:20260419T143000
DTSTAMP:20260420T073658
CREATED:20260309T164306Z
LAST-MODIFIED:20260309T164306Z
UID:1164-1776605400-1776609000@www.upperroombible.org
SUMMARY:Nursing Home Service
DESCRIPTION:
URL:https://www.upperroombible.org/event/nursing-home-service-3/
END:VEVENT
BEGIN:VEVENT
DTSTART;TZID=America/Chicago:20260419T103000
DTEND;TZID=America/Chicago:20260419T113000
DTSTAMP:20260420T073658
CREATED:20260309T164206Z
LAST-MODIFIED:20260309T164206Z
UID:1145-1776594600-1776598200@www.upperroombible.org
SUMMARY:Worship Service
DESCRIPTION:
URL:https://www.upperroombible.org/event/worship-service-12/
END:VEVENT
BEGIN:VEVENT
DTSTART;TZID=America/Chicago:20260419T100000
DTEND;TZID=America/Chicago:20260419T103000
DTSTAMP:20260420T073658
CREATED:20260309T164206Z
LAST-MODIFIED:20260309T164206Z
UID:1141-1776592800-1776594600@www.upperroombible.org
SUMMARY:Fellowship Hour
DESCRIPTION:
URL:https://www.upperroombible.org/event/fellowship-hour-7/
END:VEVENT
BEGIN:VEVENT
DTSTART;TZID=America/Chicago:20260419T090000
DTEND;TZID=America/Chicago:20260419T100000
DTSTAMP:20260420T073658
CREATED:20260309T164205Z
LAST-MODIFIED:20260309T164205Z
UID:1137-1776589200-1776592800@www.upperroombible.org
SUMMARY:Sunday School
DESCRIPTION:
URL:https://www.upperroombible.org/event/sunday-school-12/
END:VEVENT
BEGIN:VEVENT
DTSTART;TZID=America/Chicago:20260416T100000
DTEND;TZID=America/Chicago:20260416T113000
DTSTAMP:20260420T073658
CREATED:20260309T164237Z
LAST-MODIFIED:20260309T164237Z
UID:1155-1776333600-1776339000@www.upperroombible.org
SUMMARY:Little Candles Mommy and Me
DESCRIPTION:
URL:https://www.upperroombible.org/event/little-candles-mommy-and-me-15/
END:VEVENT
BEGIN:VEVENT
DTSTART;TZID=America/Chicago:20260415T181500
DTEND;TZID=America/Chicago:20260415T194500
DTSTAMP:20260420T073658
CREATED:20260309T164252Z
LAST-MODIFIED:20260309T164252Z
UID:1161-1776276900-1776282300@www.upperroombible.org
SUMMARY:AWANA
DESCRIPTION:
URL:https://www.upperroombible.org/event/awana-12/
END:VEVENT
BEGIN:VEVENT
DTSTART;TZID=America/Chicago:20260414T183000
DTEND;TZID=America/Chicago:20260414T200000
DTSTAMP:20260420T073658
CREATED:20260309T164222Z
LAST-MODIFIED:20260309T164222Z
UID:1152-1776191400-1776196800@www.upperroombible.org
SUMMARY:The Gathering
DESCRIPTION:
URL:https://www.upperroombible.org/event/the-gathering-5/
END:VEVENT
BEGIN:VEVENT
DTSTART;TZID=America/Chicago:20260412T173000
DTEND;TZID=America/Chicago:20260412T193000
DTSTAMP:20260420T073658
CREATED:20260309T164206Z
LAST-MODIFIED:20260309T164206Z
UID:1148-1776015000-1776022200@www.upperroombible.org
SUMMARY:Corner Stone Youth Group
DESCRIPTION:
URL:https://www.upperroombible.org/event/corner-stone-youth-group-6/
END:VEVENT
BEGIN:VEVENT
DTSTART;TZID=America/Chicago:20260412T103000
DTEND;TZID=America/Chicago:20260412T113000
DTSTAMP:20260420T073658
CREATED:20260309T164206Z
LAST-MODIFIED:20260309T164206Z
UID:1144-1775989800-1775993400@www.upperroombible.org
SUMMARY:Worship Service
DESCRIPTION:
URL:https://www.upperroombible.org/event/worship-service-11/
END:VEVENT
BEGIN:VEVENT
DTSTART;TZID=America/Chicago:20260412T100000
DTEND;TZID=America/Chicago:20260412T103000
DTSTAMP:20260420T073658
CREATED:20260309T164206Z
LAST-MODIFIED:20260309T164206Z
UID:1140-1775988000-1775989800@www.upperroombible.org
SUMMARY:Fellowship Hour
DESCRIPTION:
URL:https://www.upperroombible.org/event/fellowship-hour-6/
END:VEVENT
BEGIN:VEVENT
DTSTART;TZID=America/Chicago:20260412T090000
DTEND;TZID=America/Chicago:20260412T100000
DTSTAMP:20260420T073658
CREATED:20260309T164205Z
LAST-MODIFIED:20260309T164205Z
UID:1136-1775984400-1775988000@www.upperroombible.org
SUMMARY:Sunday School
DESCRIPTION:
URL:https://www.upperroombible.org/event/sunday-school-11/
END:VEVENT
BEGIN:VEVENT
DTSTART;TZID=America/Chicago:20260409T180000
DTEND;TZID=America/Chicago:20260409T200000
DTSTAMP:20260420T073658
CREATED:20260309T164222Z
LAST-MODIFIED:20260309T164222Z
UID:1151-1775757600-1775764800@www.upperroombible.org
SUMMARY:Elder's Meeting
DESCRIPTION:
URL:https://www.upperroombible.org/event/elders-meeting-6/
END:VEVENT
BEGIN:VEVENT
DTSTART;TZID=America/Chicago:20260409T100000
DTEND;TZID=America/Chicago:20260409T113000
DTSTAMP:20260420T073658
CREATED:20260309T164236Z
LAST-MODIFIED:20260309T164236Z
UID:1154-1775728800-1775734200@www.upperroombible.org
SUMMARY:Little Candles Mommy and Me
DESCRIPTION:
URL:https://www.upperroombible.org/event/little-candles-mommy-and-me-14/
END:VEVENT
BEGIN:VEVENT
DTSTART;TZID=America/Chicago:20260408T181500
DTEND;TZID=America/Chicago:20260408T194500
DTSTAMP:20260420T073658
CREATED:20260309T164252Z
LAST-MODIFIED:20260309T164252Z
UID:1160-1775672100-1775677500@www.upperroombible.org
SUMMARY:AWANA
DESCRIPTION:
URL:https://www.upperroombible.org/event/awana-11/
END:VEVENT
BEGIN:VEVENT
DTSTART;TZID=America/Chicago:20260405T173000
DTEND;TZID=America/Chicago:20260405T193000
DTSTAMP:20260420T073658
CREATED:20260309T164206Z
LAST-MODIFIED:20260309T164206Z
UID:1147-1775410200-1775417400@www.upperroombible.org
SUMMARY:Corner Stone Youth Group
DESCRIPTION:
URL:https://www.upperroombible.org/event/corner-stone-youth-group-5/
END:VEVENT
BEGIN:VEVENT
DTSTART;TZID=America/Chicago:20260405T103000
DTEND;TZID=America/Chicago:20260405T113000
DTSTAMP:20260420T073658
CREATED:20260309T164206Z
LAST-MODIFIED:20260309T164206Z
UID:1143-1775385000-1775388600@www.upperroombible.org
SUMMARY:Worship Service
DESCRIPTION:
URL:https://www.upperroombible.org/event/worship-service-10/
END:VEVENT
BEGIN:VEVENT
DTSTART;TZID=America/Chicago:20260405T100000
DTEND;TZID=America/Chicago:20260405T103000
DTSTAMP:20260420T073658
CREATED:20260309T164206Z
LAST-MODIFIED:20260309T164206Z
UID:1139-1775383200-1775385000@www.upperroombible.org
SUMMARY:Fellowship Hour
DESCRIPTION:
URL:https://www.upperroombible.org/event/fellowship-hour-5/
END:VEVENT
BEGIN:VEVENT
DTSTART;TZID=America/Chicago:20260405T090000
DTEND;TZID=America/Chicago:20260405T100000
DTSTAMP:20260420T073658
CREATED:20260316T032020Z
LAST-MODIFIED:20260316T032020Z
UID:1168-1775379600-1775383200@www.upperroombible.org
SUMMARY:Easter Breakfast
DESCRIPTION:
URL:https://www.upperroombible.org/event/easter-breakfast/
END:VEVENT
BEGIN:VEVENT
DTSTART;TZID=America/Chicago:20260404T090000
DTEND;TZID=America/Chicago:20260404T103000
DTSTAMP:20260420T073658
CREATED:20260309T164237Z
LAST-MODIFIED:20260309T164237Z
UID:1158-1775293200-1775298600@www.upperroombible.org
SUMMARY:Women's Ministry Board Mtg
DESCRIPTION:
URL:https://www.upperroombible.org/event/womens-ministry-board-mtg-2/
END:VEVENT
BEGIN:VEVENT
DTSTART;TZID=America/Chicago:20260404T090000
DTEND;TZID=America/Chicago:20260404T103000
DTSTAMP:20260420T073658
CREATED:20260309T164204Z
LAST-MODIFIED:20260309T164204Z
UID:1134-1775293200-1775298600@www.upperroombible.org
SUMMARY:Deacon's Meeting
DESCRIPTION:
URL:https://www.upperroombible.org/event/deacons-meeting-6/
END:VEVENT
BEGIN:VEVENT
DTSTART;TZID=UTC:20260402T180000
DTEND;TZID=UTC:20260402T190000
DTSTAMP:20260420T073658
CREATED:20260318T023405Z
LAST-MODIFIED:20260318T023405Z
UID:1171-1775152800-1775156400@www.upperroombible.org
SUMMARY:Maundy Thursday Service
DESCRIPTION:
URL:https://www.upperroombible.org/event/maundy-thursday-service/
END:VEVENT
BEGIN:VEVENT
DTSTART;TZID=America/Chicago:20260402T100000
DTEND;TZID=America/Chicago:20260402T113000
DTSTAMP:20260420T073658
CREATED:20260309T164222Z
LAST-MODIFIED:20260309T164222Z
UID:1153-1775124000-1775129400@www.upperroombible.org
SUMMARY:Little Candles Mommy and Me
DESCRIPTION:
URL:https://www.upperroombible.org/event/little-candles-mommy-and-me-13/
END:VEVENT
BEGIN:VEVENT
DTSTART;TZID=America/Chicago:20260401T181500
DTEND;TZID=America/Chicago:20260401T194500
DTSTAMP:20260420T073658
CREATED:20260309T164251Z
LAST-MODIFIED:20260309T164251Z
UID:1159-1775067300-1775072700@www.upperroombible.org
SUMMARY:AWANA
DESCRIPTION:
URL:https://www.upperroombible.org/event/awana-10/
END:VEVENT
BEGIN:VEVENT
DTSTART;TZID=America/Chicago:20260329T173000
DTEND;TZID=America/Chicago:20260329T193000
DTSTAMP:20260420T073658
CREATED:20260225T025601Z
LAST-MODIFIED:20260309T015939Z
UID:883-1774805400-1774812600@www.upperroombible.org
SUMMARY:Cornerstone Youth Group
DESCRIPTION:
URL:https://www.upperroombible.org/event/cornerstone-youth-group-7/
END:VEVENT
BEGIN:VEVENT
DTSTART;TZID=America/Chicago:20260329T103000
DTEND;TZID=America/Chicago:20260329T113000
DTSTAMP:20260420T073658
CREATED:20260228T154346Z
LAST-MODIFIED:20260309T015939Z
UID:995-1774780200-1774783800@www.upperroombible.org
SUMMARY:Worship Service
DESCRIPTION:
URL:https://www.upperroombible.org/event/worship-service-6/
END:VEVENT
BEGIN:VEVENT
DTSTART;TZID=America/Chicago:20260329T100000
DTEND;TZID=America/Chicago:20260329T103000
DTSTAMP:20260420T073658
CREATED:20260228T153559Z
LAST-MODIFIED:20260309T015938Z
UID:986-1774778400-1774780200@www.upperroombible.org
SUMMARY:Fellowship
DESCRIPTION:
URL:https://www.upperroombible.org/event/fellowship-5/
END:VEVENT
BEGIN:VEVENT
DTSTART;TZID=America/Chicago:20260329T090000
DTEND;TZID=America/Chicago:20260329T100000
DTSTAMP:20260420T073658
CREATED:20260228T152901Z
LAST-MODIFIED:20260309T015938Z
UID:975-1774774800-1774778400@www.upperroombible.org
SUMMARY:Sunday School
DESCRIPTION:
URL:https://www.upperroombible.org/event/sunday-school-7/
END:VEVENT
BEGIN:VEVENT
DTSTART;TZID=America/Chicago:20260326T100000
DTEND;TZID=America/Chicago:20260326T113000
DTSTAMP:20260420T073658
CREATED:20260309T015937Z
LAST-MODIFIED:20260309T015937Z
UID:1037-1774519200-1774524600@www.upperroombible.org
SUMMARY:Little Candles Mommy and Me
DESCRIPTION:
URL:https://www.upperroombible.org/event/little-candles-mommy-and-me-7/
END:VEVENT
BEGIN:VEVENT
DTSTART;TZID=America/Chicago:20260325T181500
DTEND;TZID=America/Chicago:20260325T194500
DTSTAMP:20260420T073658
CREATED:20260225T025313Z
LAST-MODIFIED:20260309T015954Z
UID:871-1774462500-1774467900@www.upperroombible.org
SUMMARY:AWANA
DESCRIPTION:
URL:https://www.upperroombible.org/event/awana-6/
END:VEVENT
END:VCALENDAR