BEGIN:VCALENDAR
VERSION:2.0
PRODID:-//Upper Room Bible Church - ECPv6.15.16.1//NONSGML v1.0//EN
CALSCALE:GREGORIAN
METHOD:PUBLISH
X-WR-CALNAME:Upper Room Bible Church
X-ORIGINAL-URL:https://www.upperroombible.org
X-WR-CALDESC:Events for Upper Room Bible Church
REFRESH-INTERVAL;VALUE=DURATION:PT1H
X-Robots-Tag:noindex
X-PUBLISHED-TTL:PT1H
BEGIN:VTIMEZONE
TZID:America/Chicago
BEGIN:DAYLIGHT
TZOFFSETFROM:-0600
TZOFFSETTO:-0500
TZNAME:CDT
DTSTART:20250309T080000
END:DAYLIGHT
BEGIN:STANDARD
TZOFFSETFROM:-0500
TZOFFSETTO:-0600
TZNAME:CST
DTSTART:20251102T070000
END:STANDARD
BEGIN:DAYLIGHT
TZOFFSETFROM:-0600
TZOFFSETTO:-0500
TZNAME:CDT
DTSTART:20260308T080000
END:DAYLIGHT
BEGIN:STANDARD
TZOFFSETFROM:-0500
TZOFFSETTO:-0600
TZNAME:CST
DTSTART:20261101T070000
END:STANDARD
BEGIN:DAYLIGHT
TZOFFSETFROM:-0600
TZOFFSETTO:-0500
TZNAME:CDT
DTSTART:20270314T080000
END:DAYLIGHT
BEGIN:STANDARD
TZOFFSETFROM:-0500
TZOFFSETTO:-0600
TZNAME:CST
DTSTART:20271107T070000
END:STANDARD
END:VTIMEZONE
BEGIN:VEVENT
DTSTART;TZID=America/Chicago:20260405T090000
DTEND;TZID=America/Chicago:20260405T100000
DTSTAMP:20260420T060556
CREATED:20260316T032020Z
LAST-MODIFIED:20260316T032020Z
UID:1168-1775379600-1775383200@www.upperroombible.org
SUMMARY:Easter Breakfast
DESCRIPTION:
URL:https://www.upperroombible.org/event/easter-breakfast/
END:VEVENT
BEGIN:VEVENT
DTSTART;TZID=America/Chicago:20260405T100000
DTEND;TZID=America/Chicago:20260405T103000
DTSTAMP:20260420T060556
CREATED:20260309T164206Z
LAST-MODIFIED:20260309T164206Z
UID:1139-1775383200-1775385000@www.upperroombible.org
SUMMARY:Fellowship Hour
DESCRIPTION:
URL:https://www.upperroombible.org/event/fellowship-hour-5/
END:VEVENT
BEGIN:VEVENT
DTSTART;TZID=America/Chicago:20260405T103000
DTEND;TZID=America/Chicago:20260405T113000
DTSTAMP:20260420T060556
CREATED:20260309T164206Z
LAST-MODIFIED:20260309T164206Z
UID:1143-1775385000-1775388600@www.upperroombible.org
SUMMARY:Worship Service
DESCRIPTION:
URL:https://www.upperroombible.org/event/worship-service-10/
END:VEVENT
BEGIN:VEVENT
DTSTART;TZID=America/Chicago:20260405T173000
DTEND;TZID=America/Chicago:20260405T193000
DTSTAMP:20260420T060556
CREATED:20260309T164206Z
LAST-MODIFIED:20260309T164206Z
UID:1147-1775410200-1775417400@www.upperroombible.org
SUMMARY:Corner Stone Youth Group
DESCRIPTION:
URL:https://www.upperroombible.org/event/corner-stone-youth-group-5/
END:VEVENT
END:VCALENDAR