BEGIN:VCALENDAR
VERSION:2.0
PRODID:-//Upper Room Bible Church - ECPv6.15.16.1//NONSGML v1.0//EN
CALSCALE:GREGORIAN
METHOD:PUBLISH
X-ORIGINAL-URL:https://www.upperroombible.org
X-WR-CALDESC:Events for Upper Room Bible Church
REFRESH-INTERVAL;VALUE=DURATION:PT1H
X-Robots-Tag:noindex
X-PUBLISHED-TTL:PT1H
BEGIN:VTIMEZONE
TZID:America/Chicago
BEGIN:DAYLIGHT
TZOFFSETFROM:-0600
TZOFFSETTO:-0500
TZNAME:CDT
DTSTART:20250309T080000
END:DAYLIGHT
BEGIN:STANDARD
TZOFFSETFROM:-0500
TZOFFSETTO:-0600
TZNAME:CST
DTSTART:20251102T070000
END:STANDARD
BEGIN:DAYLIGHT
TZOFFSETFROM:-0600
TZOFFSETTO:-0500
TZNAME:CDT
DTSTART:20260308T080000
END:DAYLIGHT
BEGIN:STANDARD
TZOFFSETFROM:-0500
TZOFFSETTO:-0600
TZNAME:CST
DTSTART:20261101T070000
END:STANDARD
BEGIN:DAYLIGHT
TZOFFSETFROM:-0600
TZOFFSETTO:-0500
TZNAME:CDT
DTSTART:20270314T080000
END:DAYLIGHT
BEGIN:STANDARD
TZOFFSETFROM:-0500
TZOFFSETTO:-0600
TZNAME:CST
DTSTART:20271107T070000
END:STANDARD
END:VTIMEZONE
BEGIN:VTIMEZONE
TZID:UTC
BEGIN:STANDARD
TZOFFSETFROM:+0000
TZOFFSETTO:+0000
TZNAME:UTC
DTSTART:20250101T000000
END:STANDARD
END:VTIMEZONE
BEGIN:VEVENT
DTSTART;TZID=America/Chicago:20260402T100000
DTEND;TZID=America/Chicago:20260402T113000
DTSTAMP:20260420T074506
CREATED:20260309T164222Z
LAST-MODIFIED:20260309T164222Z
UID:1153-1775124000-1775129400@www.upperroombible.org
SUMMARY:Little Candles Mommy and Me
DESCRIPTION:
URL:https://www.upperroombible.org/event/little-candles-mommy-and-me-13/
END:VEVENT
BEGIN:VEVENT
DTSTART;TZID=UTC:20260402T180000
DTEND;TZID=UTC:20260402T190000
DTSTAMP:20260420T074506
CREATED:20260318T023405Z
LAST-MODIFIED:20260318T023405Z
UID:1171-1775152800-1775156400@www.upperroombible.org
SUMMARY:Maundy Thursday Service
DESCRIPTION:
URL:https://www.upperroombible.org/event/maundy-thursday-service/
END:VEVENT
END:VCALENDAR